﻿BEGIN:VCALENDAR
VERSION:2.0
PRODID:-//State Board of Pharmacy - ECPv5.3.2.1//NONSGML v1.0//EN
CALSCALE:GREGORIAN
METHOD:PUBLISH
X-WR-CALNAME:State Board of Pharmacy
X-ORIGINAL-URL:https://bop.idaho.gov
X-WR-CALDESC:Events for State Board of Pharmacy
BEGIN:VTIMEZONE
TZID:America/Boise
BEGIN:DAYLIGHT
TZOFFSETFROM:-0700
TZOFFSETTO:-0600
TZNAME:MDT
DTSTART:20210314T090000
END:DAYLIGHT
BEGIN:STANDARD
TZOFFSETFROM:-0600
TZOFFSETTO:-0700
TZNAME:MST
DTSTART:20211107T080000
END:STANDARD
END:VTIMEZONE
BEGIN:VEVENT
DTSTART;TZID=America/Boise:20210611T124500
DTEND;TZID=America/Boise:20210611T134500
DTSTAMP:20210604T043317
CREATED:20210325T164926Z
LAST-MODIFIED:20210325T164926Z
UID:1891-1623415500-1623419100@bop.idaho.gov
SUMMARY:Idaho Law Update
DESCRIPTION:Dr. Chopski will be presenting virtually at the Northewest Pharmacy Convention. Registration will be conducted through WSPA. https://www.wsparx.org/page/2021NWPC
URL:https://bop.idaho.gov/event/idaho-law-update/
CATEGORIES:CE course
END:VEVENT
END:VCALENDAR