﻿BEGIN:VCALENDAR
VERSION:2.0
PRODID:-//State Board of Pharmacy - ECPv5.3.2.1//NONSGML v1.0//EN
CALSCALE:GREGORIAN
METHOD:PUBLISH
X-WR-CALNAME:State Board of Pharmacy
X-ORIGINAL-URL:https://bop.idaho.gov
X-WR-CALDESC:Events for State Board of Pharmacy
BEGIN:VTIMEZONE
TZID:America/Boise
BEGIN:DAYLIGHT
TZOFFSETFROM:-0700
TZOFFSETTO:-0600
TZNAME:MDT
DTSTART:20190310T090000
END:DAYLIGHT
BEGIN:STANDARD
TZOFFSETFROM:-0600
TZOFFSETTO:-0700
TZNAME:MST
DTSTART:20191103T080000
END:STANDARD
END:VTIMEZONE
BEGIN:VEVENT
DTSTART;TZID=America/Boise:20190718T000000
DTEND;TZID=America/Boise:20190719T000000
DTSTAMP:20210812T175706
CREATED:20190603T165626Z
LAST-MODIFIED:20190604T212751Z
UID:216-1563408000-1563494400@bop.idaho.gov
SUMMARY:Idaho Law CE Presentaton - Idaho Falls
DESCRIPTION:Idaho Law presentation with Executive Director Nicki Chopski\, PharmD
URL:https://bop.idaho.gov/event/idaho-law-ce-presentaton-idaho-falls/
CATEGORIES:CE course
END:VEVENT
END:VCALENDAR