﻿BEGIN:VCALENDAR
VERSION:2.0
PRODID:-//State Board of Pharmacy - ECPv5.3.2.1//NONSGML v1.0//EN
CALSCALE:GREGORIAN
METHOD:PUBLISH
X-WR-CALNAME:State Board of Pharmacy
X-ORIGINAL-URL:https://bop.idaho.gov
X-WR-CALDESC:Events for State Board of Pharmacy
BEGIN:VTIMEZONE
TZID:America/Boise
BEGIN:DAYLIGHT
TZOFFSETFROM:-0700
TZOFFSETTO:-0600
TZNAME:MDT
DTSTART:20200308T090000
END:DAYLIGHT
BEGIN:STANDARD
TZOFFSETFROM:-0600
TZOFFSETTO:-0700
TZNAME:MST
DTSTART:20201101T080000
END:STANDARD
END:VTIMEZONE
BEGIN:VEVENT
DTSTART;TZID=America/Boise:20201111T000000
DTEND;TZID=America/Boise:20201111T235900
DTSTAMP:20210926T225801
CREATED:20190603T165634Z
LAST-MODIFIED:20191028T203855Z
UID:230-1605052800-1605139140@bop.idaho.gov
SUMMARY:Board Office Closed
DESCRIPTION:
URL:https://bop.idaho.gov/event/board-office-closed-19/
LOCATION:1199 W Shoreline Lane\, Suite 303\, Boise\, ID\, 83702-9103\, United States
END:VEVENT
END:VCALENDAR