﻿BEGIN:VCALENDAR
VERSION:2.0
PRODID:-//State Board of Pharmacy - ECPv5.3.2.1//NONSGML v1.0//EN
CALSCALE:GREGORIAN
METHOD:PUBLISH
X-WR-CALNAME:State Board of Pharmacy
X-ORIGINAL-URL:https://bop.idaho.gov
X-WR-CALDESC:Events for State Board of Pharmacy
BEGIN:VTIMEZONE
TZID:America/Boise
BEGIN:DAYLIGHT
TZOFFSETFROM:-0700
TZOFFSETTO:-0600
TZNAME:MDT
DTSTART:20200308T090000
END:DAYLIGHT
BEGIN:STANDARD
TZOFFSETFROM:-0600
TZOFFSETTO:-0700
TZNAME:MST
DTSTART:20201101T080000
END:STANDARD
END:VTIMEZONE
BEGIN:VEVENT
DTSTART;TZID=America/Boise:20201022T090000
DTEND;TZID=America/Boise:20201022T170000
DTSTAMP:20210926T163916
CREATED:20191104T225518Z
LAST-MODIFIED:20201019T162425Z
UID:1029-1603357200-1603386000@bop.idaho.gov
SUMMARY:Board Meeting
DESCRIPTION:Date: October 22\, 2020 \nThis is a public meeting. Seating capacity is limited due to the social distancing protocols implemented during the COVID-19 Pandemic. The public is encouraged to attend telephonically with the information provided below: \n Call in info – Dial in: 877-820-7831 – Passcode:381637#\nOctober 22\, 2020 Agenda \nAgenda Item Request Deadline: September 10\, 2020
URL:https://bop.idaho.gov/event/board-meeting-27/
LOCATION:BOP Board Meeting Room\, 1199 Shoreline Lane\, Boise\, ID\, 83702\, United States
CATEGORIES:Board Meeting
END:VEVENT
END:VCALENDAR